BEGIN:VCALENDAR
VERSION:2.0
PRODID:-//Shaheed Sukhdev College of Business Studies - ECPv5.12.4//NONSGML v1.0//EN
CALSCALE:GREGORIAN
METHOD:PUBLISH
X-WR-CALNAME:Shaheed Sukhdev College of Business Studies
X-ORIGINAL-URL:https://sscbs.du.ac.in
X-WR-CALDESC:Events for Shaheed Sukhdev College of Business Studies
REFRESH-INTERVAL;VALUE=DURATION:PT1H
X-Robots-Tag:noindex
X-PUBLISHED-TTL:PT1H
BEGIN:VTIMEZONE
TZID:Asia/Kolkata
BEGIN:STANDARD
TZOFFSETFROM:+0530
TZOFFSETTO:+0530
TZNAME:IST
DTSTART:20220101T000000
END:STANDARD
END:VTIMEZONE
BEGIN:VEVENT
DTSTART;TZID=Asia/Kolkata:20220129T160000
DTEND;TZID=Asia/Kolkata:20220129T170000
DTSTAMP:20260420T181513
CREATED:20220128T114230Z
LAST-MODIFIED:20220505T120112Z
UID:14104-1643472000-1643475600@sscbs.du.ac.in
SUMMARY:Speaker Session on Intellectual Property Rights
DESCRIPTION:The objective of the session is to spread awareness about Intellectual Property Rights among students.\nQuarter: II\nStudent Participants: 80+\nFaculty/Non-Teaching/Others Participants: 2 \n  \nEvent Report
URL:https://sscbs.du.ac.in/event/speaker-session-on-intellectual-property-rights/
CATEGORIES:MarkIT,SSCBS Institution's Innovation Council
ATTACH;FMTTYPE=image/jpeg:https://sscbs.du.ac.in/wp-content/uploads/2022/05/webinar-poster-1381-BLESSY-ANNE-CHERIAN.jpg
END:VEVENT
BEGIN:VEVENT
DTSTART;TZID=Asia/Kolkata:20220124T143000
DTEND;TZID=Asia/Kolkata:20220124T153000
DTSTAMP:20260420T181513
CREATED:20220124T070512Z
LAST-MODIFIED:20220314T070539Z
UID:13636-1643034600-1643038200@sscbs.du.ac.in
SUMMARY:I&E Initiatives & Programs of MoE for HEIs
DESCRIPTION:It is an inauguration ceremony of Innovation Ambassador Training Program 2021 via MHRD Innovation Cell YouTube channel. The focus is on Institute Innovation Council\, IIC 4.0 Registration and Participation Guidelines\, the New Features of IIC 4.0 Portal and How to Use It. \nQuarter: II \nStudent Participants: 400 \nFaculty Participants: 29 \nEvent Report (PDF)\nEvent Report (Word)
URL:https://sscbs.du.ac.in/event/ie-initiatives-programs-of-moe-for-heis/
LOCATION:Online\, Shaheed Sukhdev College Of Business Studies(University Of Delhi) Dr. K.N. Katju Marg Rohini Sector 16\, PSP Area IV\,\, New Delhi\, DELHI\, 110009\, India
CATEGORIES:SSCBS Institution's Innovation Council
ATTACH;FMTTYPE=image/jpeg:https://sscbs.du.ac.in/wp-content/uploads/2022/03/272153080_114610191110455_7131860823289948979_n-SONALIKA-ARNEJA.jpg
END:VEVENT
BEGIN:VEVENT
DTSTART;TZID=Asia/Kolkata:20220122T150000
DTEND;TZID=Asia/Kolkata:20220122T160000
DTSTAMP:20260420T181513
CREATED:20220121T120928Z
LAST-MODIFIED:20220505T121643Z
UID:14112-1642863600-1642867200@sscbs.du.ac.in
SUMMARY:VC Investments in the Gaming Industry
DESCRIPTION:The objective of the event is to dwell deep into the concept of what is Venture Capital\, how it is used\, it’s importance in industries\, moving on to its encounter with Gaming industry. There will be discussion on the real-life examples of venture capital investments in Gaming Companies.\nQuarter: I\nParticipants: 35 \n  \nEvent Report
URL:https://sscbs.du.ac.in/event/vc-investments-in-the-gaming-industry/
CATEGORIES:Career Development Centre,SSCBS Institution's Innovation Council
ATTACH;FMTTYPE=image/jpeg:https://sscbs.du.ac.in/wp-content/uploads/2022/05/webinar-poster-51-BLESSY-ANNE-CHERIAN.jpg
END:VEVENT
BEGIN:VEVENT
DTSTART;TZID=Asia/Kolkata:20220114T133000
DTEND;TZID=Asia/Kolkata:20220114T143000
DTSTAMP:20260420T181513
CREATED:20220113T121826Z
LAST-MODIFIED:20220505T122301Z
UID:14116-1642167000-1642170600@sscbs.du.ac.in
SUMMARY:Startup Success Stories [Business Blaster (Behind the Scenes)]
DESCRIPTION:The objective of the event is to showcase efforts behind the successful GNCTD program called Business Blaster.\nQuarter: I\nStudent Participants: 9\nFaculty/Non-Teaching/Others Participants: 39 \n  \nEvent Report
URL:https://sscbs.du.ac.in/event/startup-success-stories-business-blaster-behind-the-scenes/
CATEGORIES:SIIF,SSCBS Institution's Innovation Council
ATTACH;FMTTYPE=image/jpeg:https://sscbs.du.ac.in/wp-content/uploads/2022/05/6969-poster-BLESSY-ANNE-CHERIAN.jpg
END:VEVENT
BEGIN:VEVENT
DTSTART;TZID=Asia/Kolkata:20220113T180000
DTEND;TZID=Asia/Kolkata:20220113T190000
DTSTAMP:20260420T181513
CREATED:20220112T113936Z
LAST-MODIFIED:20240430T101240Z
UID:14087-1642096800-1642100400@sscbs.du.ac.in
SUMMARY:Finance And Consulting: Life is a Series of Giving and Receiving PIitches
DESCRIPTION:The objective of the session is to increase the confidence of the individual while pitching his/her ideas to an investor or whilst sitting in a job interview.\nQuarter: I\nStudent Participants: 90+\nFaculty/Non-Teaching/Others Participants: 7 \n  \nLearn More
URL:https://sscbs.du.ac.in/event/finance-and-consulting-life-is-a-series-of-giving-and-receiving-piitches/
CATEGORIES:Financial Management Association,SSCBS Institution's Innovation Council
ATTACH;FMTTYPE=image/png:https://sscbs.du.ac.in/wp-content/uploads/2022/05/Screenshot-2022-03-12-221952-BLESSY-ANNE-CHERIAN.png
END:VEVENT
BEGIN:VEVENT
DTSTART;TZID=Asia/Kolkata:20220111T100000
DTEND;TZID=Asia/Kolkata:20220112T170000
DTSTAMP:20260420T181513
CREATED:20220110T122423Z
LAST-MODIFIED:20220505T122618Z
UID:14120-1641895200-1642006800@sscbs.du.ac.in
SUMMARY:E-Symposium on Building Innovation Ecosystem in Educational Institutions
DESCRIPTION:An event named E-symposium was organized that put emphasis on building innovation ecosystem in educational institutions and the importance of sustainable innovations in today’s not so clean environment.\nQuarter: II\nStudent Participants: 22\nFaculty/Non-Teaching/Others Participants: 10 \n  \nEvent Report
URL:https://sscbs.du.ac.in/event/e-symposium-on-building-innovation-ecosystem-in-educational-institutions/
CATEGORIES:SSCBS Institution's Innovation Council
ATTACH;FMTTYPE=image/png:https://sscbs.du.ac.in/wp-content/uploads/2022/05/Screenshot-2022-03-10-at-7.48.52-PM-SONALIKA-ARNEJA.png
END:VEVENT
END:VCALENDAR