BEGIN:VCALENDAR
VERSION:2.0
PRODID:-//Shaheed Sukhdev College of Business Studies - ECPv5.12.4//NONSGML v1.0//EN
CALSCALE:GREGORIAN
METHOD:PUBLISH
X-WR-CALNAME:Shaheed Sukhdev College of Business Studies
X-ORIGINAL-URL:https://sscbs.du.ac.in
X-WR-CALDESC:Events for Shaheed Sukhdev College of Business Studies
REFRESH-INTERVAL;VALUE=DURATION:PT1H
X-Robots-Tag:noindex
X-PUBLISHED-TTL:PT1H
BEGIN:VTIMEZONE
TZID:Asia/Kolkata
BEGIN:STANDARD
TZOFFSETFROM:+0530
TZOFFSETTO:+0530
TZNAME:IST
DTSTART:20210101T000000
END:STANDARD
END:VTIMEZONE
BEGIN:VEVENT
DTSTART;TZID=Asia/Kolkata:20210103T171500
DTEND;TZID=Asia/Kolkata:20210103T183000
DTSTAMP:20260420T174157
CREATED:20210102T112327Z
LAST-MODIFIED:20220117T112811Z
UID:12594-1609694100-1609698600@sscbs.du.ac.in
SUMMARY:Study Abroad: MBA vs M.Sc Finance
DESCRIPTION:Foreign Education by Harshita Saxena – Alumnus of SSCBS\, Central European University and currently a Lead Analyst at Blackrock. To provide knowledge about foreign education with firsthand exposure form the speaker. To make students aware about the benefits as well as the costs and risks involved with an aim to develop better understanding within students and make informed decisions. The webinar was conducted live on Google Meet. The event was made interactive by inviting answers on the questions posed by the speaker. \nEvent Report
URL:https://sscbs.du.ac.in/event/study-abroad-mba-vs-m-sc-finance/
LOCATION:Online\, Shaheed Sukhdev College Of Business Studies(University Of Delhi) Dr. K.N. Katju Marg Rohini Sector 16\, PSP Area IV\,\, New Delhi\, DELHI\, 110009\, India
CATEGORIES:International Relations Cell
ATTACH;FMTTYPE=image/jpeg:https://sscbs.du.ac.in/wp-content/uploads/2021/10/WhatsApp-Image-2021-09-29-at-11.03.53-PM-International-Relations-Cell-SSCBS.jpeg
END:VEVENT
BEGIN:VEVENT
DTSTART;TZID=Asia/Kolkata:20210106T172000
DTEND;TZID=Asia/Kolkata:20210106T183000
DTSTAMP:20260420T174157
CREATED:20210105T112350Z
LAST-MODIFIED:20220117T112756Z
UID:12598-1609953600-1609957800@sscbs.du.ac.in
SUMMARY:International Competitions
DESCRIPTION:International Competitions by Oleg Berezhnoy – Winner of Global Investment Banking Olympiad 2019 and currently an Investment Analyst at HSCI\, UK. Give students a holistic understanding of case competitions and how they bridge the gap between theoretical learning and practical application. Listing out dos and don’ts for participating and excelling in case competitions and strategies. The webinar was conducted live on Google Meet. The speaker first covered the concept of case study competitions in detail. Then queries from attendants were taken during the Q&A session. \nEvent Report
URL:https://sscbs.du.ac.in/event/international-competitions/
LOCATION:Online\, Shaheed Sukhdev College Of Business Studies(University Of Delhi) Dr. K.N. Katju Marg Rohini Sector 16\, PSP Area IV\,\, New Delhi\, DELHI\, 110009\, India
CATEGORIES:International Relations Cell
ATTACH;FMTTYPE=image/jpeg:https://sscbs.du.ac.in/wp-content/uploads/2021/10/WhatsApp-Image-2021-09-29-at-11.07.21-PM-International-Relations-Cell-SSCBS-1.jpeg
END:VEVENT
END:VCALENDAR