BEGIN:VCALENDAR
VERSION:2.0
PRODID:-//Shaheed Sukhdev College of Business Studies - ECPv5.12.4//NONSGML v1.0//EN
CALSCALE:GREGORIAN
METHOD:PUBLISH
X-WR-CALNAME:Shaheed Sukhdev College of Business Studies
X-ORIGINAL-URL:https://sscbs.du.ac.in
X-WR-CALDESC:Events for Shaheed Sukhdev College of Business Studies
REFRESH-INTERVAL;VALUE=DURATION:PT1H
X-Robots-Tag:noindex
X-PUBLISHED-TTL:PT1H
BEGIN:VTIMEZONE
TZID:Asia/Kolkata
BEGIN:STANDARD
TZOFFSETFROM:+0530
TZOFFSETTO:+0530
TZNAME:IST
DTSTART:20230101T000000
END:STANDARD
END:VTIMEZONE
BEGIN:VEVENT
DTSTART;TZID=Asia/Kolkata:20230403T110000
DTEND;TZID=Asia/Kolkata:20230403T120000
DTSTAMP:20260423T031447
CREATED:20230402T093542Z
LAST-MODIFIED:20231222T100809Z
UID:16668-1680519600-1680523200@sscbs.du.ac.in
SUMMARY:Careers in Finance
DESCRIPTION:Event Report
URL:https://sscbs.du.ac.in/event/careers-in-finance/
LOCATION:7th floor Seminar Hall
CATEGORIES:IMA
ATTACH;FMTTYPE=image/jpeg:https://sscbs.du.ac.in/wp-content/uploads/2023/12/20230403_112514AMByGPSMapCamera-1-scaled.jpg
END:VEVENT
END:VCALENDAR