BEGIN:VCALENDAR
VERSION:2.0
PRODID:-//Shaheed Sukhdev College of Business Studies - ECPv5.12.4//NONSGML v1.0//EN
CALSCALE:GREGORIAN
METHOD:PUBLISH
X-WR-CALNAME:Shaheed Sukhdev College of Business Studies
X-ORIGINAL-URL:https://sscbs.du.ac.in
X-WR-CALDESC:Events for Shaheed Sukhdev College of Business Studies
REFRESH-INTERVAL;VALUE=DURATION:PT1H
X-Robots-Tag:noindex
X-PUBLISHED-TTL:PT1H
BEGIN:VTIMEZONE
TZID:Asia/Kolkata
BEGIN:STANDARD
TZOFFSETFROM:+0530
TZOFFSETTO:+0530
TZNAME:IST
DTSTART:20250101T000000
END:STANDARD
END:VTIMEZONE
BEGIN:VEVENT
DTSTART;TZID=Asia/Kolkata:20250401T090000
DTEND;TZID=Asia/Kolkata:20250401T170000
DTSTAMP:20260420T094618
CREATED:20250929T122001Z
LAST-MODIFIED:20250929T122001Z
UID:22711-1743498000-1743526800@sscbs.du.ac.in
SUMMARY:Raasa'25
DESCRIPTION:Raasa 2025 was organized to celebrate the craft of theatre across Delhi University and beyond. The objective was to foster collaboration\, creativity\, and appreciation for performance\, moving beyond competition to build dialogue and community among theatre societies. \nEvent Report
URL:https://sscbs.du.ac.in/event/raasa25/
LOCATION:Akashganga – Auditorium\, 5th floor Seminar Hall
CATEGORIES:Fourth wall Productions
ATTACH;FMTTYPE=image/jpeg:https://sscbs.du.ac.in/wp-content/uploads/2025/09/IMG-20250728-WA0087-FourthWallProductions-SSCBS.jpg
END:VEVENT
END:VCALENDAR