BEGIN:VCALENDAR
VERSION:2.0
PRODID:-//Shaheed Sukhdev College of Business Studies - ECPv5.12.4//NONSGML v1.0//EN
CALSCALE:GREGORIAN
METHOD:PUBLISH
X-WR-CALNAME:Shaheed Sukhdev College of Business Studies
X-ORIGINAL-URL:https://sscbs.du.ac.in
X-WR-CALDESC:Events for Shaheed Sukhdev College of Business Studies
REFRESH-INTERVAL;VALUE=DURATION:PT1H
X-Robots-Tag:noindex
X-PUBLISHED-TTL:PT1H
BEGIN:VTIMEZONE
TZID:Asia/Kolkata
BEGIN:STANDARD
TZOFFSETFROM:+0530
TZOFFSETTO:+0530
TZNAME:IST
DTSTART:20240101T000000
END:STANDARD
END:VTIMEZONE
BEGIN:VEVENT
DTSTART;TZID=Asia/Kolkata:20240909T100000
DTEND;TZID=Asia/Kolkata:20240909T160000
DTSTAMP:20260421T035730
CREATED:20250929T115838Z
LAST-MODIFIED:20250929T115838Z
UID:22681-1725876000-1725897600@sscbs.du.ac.in
SUMMARY:Introductory Workshop
DESCRIPTION:To welcome first-year students into the society and introduce them to the world of theatre through engaging activities\, while helping them build confidence\, teamwork\, and foundational performance skills. \nEvent Report
URL:https://sscbs.du.ac.in/event/introductory-workshop/
LOCATION:Shaheed Sukhdev College of Business Studies\, New Delhi\, India
CATEGORIES:Fourth wall Productions
ATTACH;FMTTYPE=image/jpeg:https://sscbs.du.ac.in/wp-content/uploads/2025/09/IMG-20250728-WA0086-FourthWallProductions-SSCBS.jpg
END:VEVENT
END:VCALENDAR