BEGIN:VCALENDAR
VERSION:2.0
PRODID:-//Shaheed Sukhdev College of Business Studies - ECPv5.12.4//NONSGML v1.0//EN
CALSCALE:GREGORIAN
METHOD:PUBLISH
X-WR-CALNAME:Shaheed Sukhdev College of Business Studies
X-ORIGINAL-URL:https://sscbs.du.ac.in
X-WR-CALDESC:Events for Shaheed Sukhdev College of Business Studies
REFRESH-INTERVAL;VALUE=DURATION:PT1H
X-Robots-Tag:noindex
X-PUBLISHED-TTL:PT1H
BEGIN:VTIMEZONE
TZID:Asia/Kolkata
BEGIN:STANDARD
TZOFFSETFROM:+0530
TZOFFSETTO:+0530
TZNAME:IST
DTSTART:20240101T000000
END:STANDARD
END:VTIMEZONE
BEGIN:VEVENT
DTSTART;TZID=Asia/Kolkata:20240430T090000
DTEND;TZID=Asia/Kolkata:20240430T180000
DTSTAMP:20260421T231941
CREATED:20240426T141553Z
LAST-MODIFIED:20240426T141553Z
UID:18458-1714467600-1714500000@sscbs.du.ac.in
SUMMARY:Raasa
DESCRIPTION:Our annual theatre festival\, hosted 60 teams across University of Delhi\, IP University\, DTU\, NSUT\, among others and so\, attracted a footfall of about 3000 people including artists\, audiences and other college students. We have had renowned theatre practitioners and bollywood actors come to our festival as mentors and judges including Vijay Raaz\, AvijitDutt\, Faezeh Jalali\, Anirudh Nair\, Neel Chaudhari\, Sahil Verma and Swati Simha\, Mr. Sandeep Shikhar\, Mr Neel Sengupta\, MS Sakhi Upadhyay\, Mr Vivek Tyagi and Mr Karan Khanna. Received various sponsorships from companies like Pepsi\, Mother Dairy\, SBI\, Cornitos\, Nestle. \nEvent Report
URL:https://sscbs.du.ac.in/event/raasa/
CATEGORIES:Fourth wall Productions
ATTACH;FMTTYPE=image/png:https://sscbs.du.ac.in/wp-content/uploads/2024/04/Screenshot-2024-04-16-220005-FourthWallProductions-SSCBS.png
END:VEVENT
END:VCALENDAR