BEGIN:VCALENDAR
VERSION:2.0
PRODID:-//Shaheed Sukhdev College of Business Studies - ECPv5.12.4//NONSGML v1.0//EN
CALSCALE:GREGORIAN
METHOD:PUBLISH
X-WR-CALNAME:Shaheed Sukhdev College of Business Studies
X-ORIGINAL-URL:https://sscbs.du.ac.in
X-WR-CALDESC:Events for Shaheed Sukhdev College of Business Studies
REFRESH-INTERVAL;VALUE=DURATION:PT1H
X-Robots-Tag:noindex
X-PUBLISHED-TTL:PT1H
BEGIN:VTIMEZONE
TZID:Asia/Kolkata
BEGIN:STANDARD
TZOFFSETFROM:+0530
TZOFFSETTO:+0530
TZNAME:IST
DTSTART:20220101T000000
END:STANDARD
END:VTIMEZONE
BEGIN:VEVENT
DTSTART;TZID=Asia/Kolkata:20221021T090000
DTEND;TZID=Asia/Kolkata:20221021T140000
DTSTAMP:20260424T093538
CREATED:20221020T122833Z
LAST-MODIFIED:20221028T123410Z
UID:14712-1666342800-1666360800@sscbs.du.ac.in
SUMMARY:Diwali Drive
DESCRIPTION:Enactus SSCBS works with the underprivileged women residing in the homeless shelters of DUSIB and aims at making their life better. We promoted the handicraft products made by our women entrepreneurs and also conducted a promotion drive at Shaheed Sukhdev College of business studies. We are also delighted to announce that the drive was fully appreciated and supported by the staff and the faculty members. Diwali is a festival of lights and love and thus keeping up with its spirit we conducted a drive in our CP shelter\, we conducted poster and rangoli making competitions. Further\, to add sweetness to the entire event we distributed packs of sweets to these women and celebrated this joyous occasion with them.
URL:https://sscbs.du.ac.in/event/diwali-drive/
CATEGORIES:Enactus
ATTACH;FMTTYPE=image/png:https://sscbs.du.ac.in/wp-content/uploads/2022/10/Diwali-event-Ananya-Verma.png
END:VEVENT
END:VCALENDAR