BEGIN:VCALENDAR
VERSION:2.0
PRODID:-//Shaheed Sukhdev College of Business Studies - ECPv5.12.4//NONSGML v1.0//EN
CALSCALE:GREGORIAN
METHOD:PUBLISH
X-WR-CALNAME:Shaheed Sukhdev College of Business Studies
X-ORIGINAL-URL:https://sscbs.du.ac.in
X-WR-CALDESC:Events for Shaheed Sukhdev College of Business Studies
REFRESH-INTERVAL;VALUE=DURATION:PT1H
X-Robots-Tag:noindex
X-PUBLISHED-TTL:PT1H
BEGIN:VTIMEZONE
TZID:Asia/Kolkata
BEGIN:STANDARD
TZOFFSETFROM:+0530
TZOFFSETTO:+0530
TZNAME:IST
DTSTART:20230101T000000
END:STANDARD
END:VTIMEZONE
BEGIN:VEVENT
DTSTART;TZID=Asia/Kolkata:20230422T100000
DTEND;TZID=Asia/Kolkata:20230422T130000
DTSTAMP:20260420T212140
CREATED:20240910T061248Z
LAST-MODIFIED:20240910T061248Z
UID:19554-1682157600-1682168400@sscbs.du.ac.in
SUMMARY:Earth Day Event
DESCRIPTION:On 22nd April 2024\, Enactus SSCBS organized a sensitization event at SSLT Gujarat School\,\nCivil Lines\, Delhi\, in celebration of World Earth Day. The event featured a poster-making\ncompetition where students creatively expressed their environmental concerns. Winners\nwere awarded goodies as a token of appreciation. Following the competition\, saplings were\nplanted in the school playground\, promoting a greener environment. The event concluded\nwith a pledge ceremony\, where students committed to environmental stewardship\,\nreinforcing the importance of sustainable practices in daily life. \nEvent Report
URL:https://sscbs.du.ac.in/event/earth-day-event/
LOCATION:SSLT Gujarat Public School
CATEGORIES:Enactus
ATTACH;FMTTYPE=image/png:https://sscbs.du.ac.in/wp-content/uploads/2024/09/Earth-Day-Visit-SSLT-School.png
END:VEVENT
END:VCALENDAR