BEGIN:VCALENDAR
VERSION:2.0
PRODID:-//Shaheed Sukhdev College of Business Studies - ECPv5.12.4//NONSGML v1.0//EN
CALSCALE:GREGORIAN
METHOD:PUBLISH
X-WR-CALNAME:Shaheed Sukhdev College of Business Studies
X-ORIGINAL-URL:https://sscbs.du.ac.in
X-WR-CALDESC:Events for Shaheed Sukhdev College of Business Studies
REFRESH-INTERVAL;VALUE=DURATION:PT1H
X-Robots-Tag:noindex
X-PUBLISHED-TTL:PT1H
BEGIN:VTIMEZONE
TZID:Asia/Kolkata
BEGIN:STANDARD
TZOFFSETFROM:+0530
TZOFFSETTO:+0530
TZNAME:IST
DTSTART:20230101T000000
END:STANDARD
END:VTIMEZONE
BEGIN:VEVENT
DTSTART;TZID=Asia/Kolkata:20230503T120000
DTEND;TZID=Asia/Kolkata:20230503T130000
DTSTAMP:20260420T174208
CREATED:20230501T101020Z
LAST-MODIFIED:20231222T102057Z
UID:16673-1683115200-1683118800@sscbs.du.ac.in
SUMMARY:Decoding Deferred MBA and M.S. Admissions
DESCRIPTION:Event Report
URL:https://sscbs.du.ac.in/event/decoding-deferred-mba-and-m-s-admissions/
LOCATION:5th Floor Seminar Hall
CATEGORIES:EcoVision
ATTACH;FMTTYPE=image/png:https://sscbs.du.ac.in/wp-content/uploads/2023/12/websitepic-e1703240327732.png
END:VEVENT
END:VCALENDAR