BEGIN:VCALENDAR
VERSION:2.0
PRODID:-//Shaheed Sukhdev College of Business Studies - ECPv5.12.4//NONSGML v1.0//EN
CALSCALE:GREGORIAN
METHOD:PUBLISH
X-WR-CALNAME:Shaheed Sukhdev College of Business Studies
X-ORIGINAL-URL:https://sscbs.du.ac.in
X-WR-CALDESC:Events for Shaheed Sukhdev College of Business Studies
REFRESH-INTERVAL;VALUE=DURATION:PT1H
X-Robots-Tag:noindex
X-PUBLISHED-TTL:PT1H
BEGIN:VTIMEZONE
TZID:Asia/Kolkata
BEGIN:STANDARD
TZOFFSETFROM:+0530
TZOFFSETTO:+0530
TZNAME:IST
DTSTART:20240101T000000
END:STANDARD
END:VTIMEZONE
BEGIN:VEVENT
DTSTART;TZID=Asia/Kolkata:20241014T120000
DTEND;TZID=Asia/Kolkata:20241014T170000
DTSTAMP:20260421T181721
CREATED:20251009T065607Z
LAST-MODIFIED:20251009T065607Z
UID:22820-1728907200-1728925200@sscbs.du.ac.in
SUMMARY:Plantation Drive
DESCRIPTION:On October 14th\, 2024\, EcoClub of Shaheed Sukhdev College of Business Studies organized a plantation drive to promote environmental sustainability and raise awareness about the importance of greenery in urban spaces. The initiative focused on planting curry leaf plants\, known for their ecological and culinary benefits\, within the college premises. This drive was a part of EcoClub’s ongoing commitment to fostering an environmentally conscious community.The plants were sourced from Green Ocean Nursery\, ensuring high-quality saplings for the event. The plantation drive aimed to inspire collective action toward sustainability and encourage students and faculty to contribute to a greener future. \nEvent Report
URL:https://sscbs.du.ac.in/event/plantation-drive/
LOCATION:SSCBS
CATEGORIES:EcoClub
ATTACH;FMTTYPE=image/jpeg:https://sscbs.du.ac.in/wp-content/uploads/2025/10/Curry-Leaves-Plantation-Eco-Club.jpg
END:VEVENT
BEGIN:VEVENT
DTSTART;TZID=Asia/Kolkata:20241022T130000
DTEND;TZID=Asia/Kolkata:20241022T160000
DTSTAMP:20260421T181721
CREATED:20251009T065953Z
LAST-MODIFIED:20251009T065953Z
UID:22824-1729602000-1729612800@sscbs.du.ac.in
SUMMARY:Waste Segregation Challenge
DESCRIPTION:On October 22nd\, 2024\, during Viti\, the annual fest organized by Kartavya\, the EcoClub conducted a dynamic and educational Waste Segregation Challenge. This initiative was designed to promote awareness about the critical importance of waste segregation and encourage sustainable practices among participants.​ The activity was conceptualized to engage students\, faculty\, and staff in a hands-on learning experience about classifying waste into its proper categories\, such as biodegradable\, recyclable\, and non-recyclable. By incorporating an interactive element\, the challenge aimed to make environmental awareness both fun and thought-provoking.​ Participants not only tested their knowledge of waste management but also developed a deeper understanding of the environmental consequences of improper waste disposal. The activity highlighted the significance of small\, conscious actions in creating a larger impact\, making it one of the most memorable and impactful events of the fest. \nEvent Report
URL:https://sscbs.du.ac.in/event/waste-segregation-challenge/
LOCATION:SSCBS
CATEGORIES:EcoClub
ATTACH;FMTTYPE=image/png:https://sscbs.du.ac.in/wp-content/uploads/2025/10/Waste-Segregation-Challenge_-Eco-Club.png
END:VEVENT
END:VCALENDAR