BEGIN:VCALENDAR
VERSION:2.0
PRODID:-//Shaheed Sukhdev College of Business Studies - ECPv5.12.4//NONSGML v1.0//EN
CALSCALE:GREGORIAN
METHOD:PUBLISH
X-WR-CALNAME:Shaheed Sukhdev College of Business Studies
X-ORIGINAL-URL:https://sscbs.du.ac.in
X-WR-CALDESC:Events for Shaheed Sukhdev College of Business Studies
REFRESH-INTERVAL;VALUE=DURATION:PT1H
X-Robots-Tag:noindex
X-PUBLISHED-TTL:PT1H
BEGIN:VTIMEZONE
TZID:Asia/Kolkata
BEGIN:STANDARD
TZOFFSETFROM:+0530
TZOFFSETTO:+0530
TZNAME:IST
DTSTART:20240101T000000
END:STANDARD
END:VTIMEZONE
BEGIN:VEVENT
DTSTART;TZID=Asia/Kolkata:20240807T120000
DTEND;TZID=Asia/Kolkata:20240906T130000
DTSTAMP:20260423T181035
CREATED:20251009T064126Z
LAST-MODIFIED:20251009T064126Z
UID:22812-1723032000-1725627600@sscbs.du.ac.in
SUMMARY:30 Days Environment Challenge
DESCRIPTION:The 30-Day Environmental Challenge at Shaheed Sukhdev College of Business Studies was a transformative initiative aimed at promoting sustainability through meaningful\, daily eco-friendly activities. Designed to inspire participants to reduce their environmental footprint\, the challenge emphasized practical solutions such as waste reduction\, energy conservation\, and adopting sustainable lifestyles.​ Our participation in this challenge stemmed from a shared commitment to environmental stewardship. By engaging in simple yet impactful actions\, we sought to foster a culture of sustainability\, build environmentally conscious habits\, and inspire others in our community. This challenge was not just about individual growth but also about collectively contributing to a more sustainable and eco-friendly future. \nEvent Report
URL:https://sscbs.du.ac.in/event/30-days-environment-challenge/
LOCATION:SSCBS
CATEGORIES:EcoClub
ATTACH;FMTTYPE=image/jpeg:https://sscbs.du.ac.in/wp-content/uploads/2025/10/30-Days-Environment-Challenge_-Eco-Club.jpg
END:VEVENT
BEGIN:VEVENT
DTSTART;TZID=Asia/Kolkata:20240927T130000
DTEND;TZID=Asia/Kolkata:20240927T150000
DTSTAMP:20260423T181035
CREATED:20251009T064840Z
LAST-MODIFIED:20251009T064840Z
UID:22816-1727442000-1727449200@sscbs.du.ac.in
SUMMARY:Road Safety Workshop
DESCRIPTION:The EcoClub of SSCBS\, in collaboration with the Indian Road Safety Campaign and Hero MotoCorp\, organized a Road Safety & First Responder Workshop on 27th September 2024. The objective of this workshop was to raise awareness about road safety and equip participants with life-saving skills such as CPR and first aid\, fostering a safer and more responsible community. \nEvent Report
URL:https://sscbs.du.ac.in/event/road-safety-workshop/
LOCATION:SSCBS
CATEGORIES:EcoClub
ATTACH;FMTTYPE=image/jpeg:https://sscbs.du.ac.in/wp-content/uploads/2025/10/road-safety-event-Eco-Club.jpg
END:VEVENT
END:VCALENDAR