BEGIN:VCALENDAR
VERSION:2.0
PRODID:-//Shaheed Sukhdev College of Business Studies - ECPv5.12.4//NONSGML v1.0//EN
CALSCALE:GREGORIAN
METHOD:PUBLISH
X-WR-CALNAME:Shaheed Sukhdev College of Business Studies
X-ORIGINAL-URL:https://sscbs.du.ac.in
X-WR-CALDESC:Events for Shaheed Sukhdev College of Business Studies
REFRESH-INTERVAL;VALUE=DURATION:PT1H
X-Robots-Tag:noindex
X-PUBLISHED-TTL:PT1H
BEGIN:VTIMEZONE
TZID:Asia/Kolkata
BEGIN:STANDARD
TZOFFSETFROM:+0530
TZOFFSETTO:+0530
TZNAME:IST
DTSTART:20240101T000000
END:STANDARD
END:VTIMEZONE
BEGIN:VEVENT
DTSTART;TZID=Asia/Kolkata:20241113T093000
DTEND;TZID=Asia/Kolkata:20241113T173000
DTSTAMP:20260421T024928
CREATED:20241111T112013Z
LAST-MODIFIED:20241111T112058Z
UID:20069-1731490200-1731519000@sscbs.du.ac.in
SUMMARY:CONVERGENCE'24
DESCRIPTION:Building on the legacy of past successes\, Shaheed Sukhdev College of Business Studies is proud to present the 21st edition of its much-anticipated Annual Leadership Summit\, Convergence’24. This year\, the summit embraces the theme “EARTH: Enterprises for Actionable Resources and Technologies for Harmony.” \nConvergence’24 aims to highlight the growing need for leaders to embed sustainability into their decision-making and long-term strategies. In today’s rapidly changing world\, true leadership extends beyond boosting efficiency or cutting costs; it is about envisioning and implementing sustainable practices that drive both business success and environmental responsibility. This shift in mindset ensures that sustainability is prioritized and integrated into strategic plans\, setting a benchmark for others to emulate. Through this\, leaders cultivate a culture of responsibility\, innovation\, and forward-thinking\, creating an environment where everyone is motivated to contribute to a greener and more sustainable world. \nKey Sub-Themes\n•	Eco-Leadership Paradigm: Redefining Sustainable Leadership Standards\n•	Circular Economy Innovations: Reinventing Waste as a Resource\n•	Resilient Infrastructure: Building for a Sustainable Future\n•	Green Goals\, Bold Moves: Achieving Excellence in Sustainability\n•	The Sustainability Blueprint: Strategic Leadership for a Green Future\n•	Earth’s Guardians: Shaping a Sustainable Legacy \nEsteemed Speakers and Panelists\nConvergence’24 will feature an impressive lineup of influential leaders\, changemakers\, and sustainability advocates:\n1.	Dr. Shelly Batra (Ashoka Changemaker)\n2.	Dr. Tanu Jain (UPSC Interviewer and Coach)\n3.	Mr. Anupam Kulshreshtha (Retired CAG)\n4.	Lt. Commander Nikhil K. Chandrakala (Founder of VAOW Energy)\n5.	CS Ujjawal Pahwa (Influencer)\n6.	Ms. Navya Singh (Climate Journalist)\n7.	Mr. Subhajeet Mukherjee (Water Hero of India)\n8.	Ms. Ruchi Jain (Founder of Taru Naturals)\n9.	Mr. Sandeep Chatterjee (Sustainability Leader at IBM)\n10.	Mr. Siddharth Dialani (Founder of BharatAgri) \nAdding a touch of entertainment and inspiration to the event\, Convergence’24 will also host special appearances by:\n1.	Mr. Mohit Morani (Stand-up Comedian)\n2.	Jadugar Samrat Shankar (Magician)
URL:https://sscbs.du.ac.in/event/convergence24/
LOCATION:Auditorium
CATEGORIES:Convergence
ATTACH;FMTTYPE=image/png:https://sscbs.du.ac.in/wp-content/uploads/2024/11/CONVERGENCE24-Convergence-Sscbs.png
END:VEVENT
END:VCALENDAR