BEGIN:VCALENDAR
VERSION:2.0
PRODID:-//Shaheed Sukhdev College of Business Studies - ECPv5.12.4//NONSGML v1.0//EN
CALSCALE:GREGORIAN
METHOD:PUBLISH
X-WR-CALNAME:Shaheed Sukhdev College of Business Studies
X-ORIGINAL-URL:https://sscbs.du.ac.in
X-WR-CALDESC:Events for Shaheed Sukhdev College of Business Studies
REFRESH-INTERVAL;VALUE=DURATION:PT1H
X-Robots-Tag:noindex
X-PUBLISHED-TTL:PT1H
BEGIN:VTIMEZONE
TZID:Asia/Kolkata
BEGIN:STANDARD
TZOFFSETFROM:+0530
TZOFFSETTO:+0530
TZNAME:IST
DTSTART:20230101T000000
END:STANDARD
END:VTIMEZONE
BEGIN:VEVENT
DTSTART;TZID=Asia/Kolkata:20241005T090000
DTEND;TZID=Asia/Kolkata:20241005T170000
DTSTAMP:20260420T081233
CREATED:20241114T203521Z
LAST-MODIFIED:20241114T203521Z
UID:20100-1728118800-1728147600@sscbs.du.ac.in
SUMMARY:Delhi Yuva Conclave
DESCRIPTION:The Delhi Yuva Conclave (DYC) 2024\, held at our college\, was a remarkable event dedicated to nurturing the entrepreneurial spirit and fostering leadership among the next generation. Organized as a collaborative effort between five Yuva colleges\, the conclave brought together students\, industry experts\, and thought leaders to create a platform for meaningful dialogue\, skill development\, and networking. DYC 2024 featured a range of activities\, including workshops\, panel discussions\, and boardroom simulations\, all designed to equip students with the knowledge and tools needed to succeed in today’s corporate world. The event placed a strong focus on real-world challenges\, with case competitions in Finance\, Marketing\, Operations\, and Supply Chain\, where participants demonstrated their innovative solutions and strategic thinking. \nEvent Report
URL:https://sscbs.du.ac.in/event/delhi-yuva-conclave/
LOCATION:Akashganga – Auditorium\, 5th floor Seminar Hall
CATEGORIES:CII YUVA
ATTACH;FMTTYPE=image/png:https://sscbs.du.ac.in/wp-content/uploads/2024/11/DYC-BANNER-CII-SSCBS-Chapter.png
END:VEVENT
BEGIN:VEVENT
DTSTART;TZID=Asia/Kolkata:20230415T093000
DTEND;TZID=Asia/Kolkata:20230415T200000
DTSTAMP:20260420T081233
CREATED:20230413T034837Z
LAST-MODIFIED:20240423T035530Z
UID:18044-1681551000-1681588800@sscbs.du.ac.in
SUMMARY:Model YI-G20
DESCRIPTION:The Model G20 2023 is a dynamic simulation event hosted by CII Young Indians in partnership with WOSY\, designed to engage students\, academics\, and professionals in a mock G20 conference. Participants will assume the roles of global leaders\, representatives\, and experts to deliberate on pressing international issues and develop policy recommendations. This initiative underscores the G20’s pivotal role in fostering global cooperation across environmental\, economic\, and financial domains. \nScheduled for April 15\, 2023\, at the Gandhi Smriti and Darshan Dham\, Ahimsa Mandap\, Tagore Hall\, Rajghat\, the Model G20 aims to empower participants with skill-building opportunities\, networking platforms\, and the potential to influence real-world policies. It also serves as a crucible for innovation and addressing global challenges. \nThe event will be graced by Dr. Vijay Chauthaiwale\, In-charge of the Department of Foreign Affairs\, BJP\, as the Chief Guest. Esteemed guests include Mr. Vijay Goel\, Vice Chairman of Gandhi Darshan Samiti\, His Excellency Dr. Shankar Prasad Sharma\, Ambassador of Nepal to India\, and Her Excellency Mrs. Bizunesh Meseret\, Deputy Head of Mission in the embassy of Ethiopia\, providing participants with unparalleled exposure and recognition. \nEvent Report
URL:https://sscbs.du.ac.in/event/model-yi-g20/
CATEGORIES:CII YUVA
ATTACH;FMTTYPE=image/jpeg:https://sscbs.du.ac.in/wp-content/uploads/2024/04/MODEL_YI_G20_BANNER_IMAGE-CII-SSCBS-Chapter.jpg
END:VEVENT
END:VCALENDAR