BEGIN:VCALENDAR
VERSION:2.0
PRODID:-//Shaheed Sukhdev College of Business Studies - ECPv5.12.4//NONSGML v1.0//EN
CALSCALE:GREGORIAN
METHOD:PUBLISH
X-WR-CALNAME:Shaheed Sukhdev College of Business Studies
X-ORIGINAL-URL:https://sscbs.du.ac.in
X-WR-CALDESC:Events for Shaheed Sukhdev College of Business Studies
REFRESH-INTERVAL;VALUE=DURATION:PT1H
X-Robots-Tag:noindex
X-PUBLISHED-TTL:PT1H
BEGIN:VTIMEZONE
TZID:Asia/Kolkata
BEGIN:STANDARD
TZOFFSETFROM:+0530
TZOFFSETTO:+0530
TZNAME:IST
DTSTART:20230101T000000
END:STANDARD
END:VTIMEZONE
BEGIN:VEVENT
DTSTART;TZID=Asia/Kolkata:20230325T093000
DTEND;TZID=Asia/Kolkata:20230325T170000
DTSTAMP:20260422T055950
CREATED:20230322T080055Z
LAST-MODIFIED:20240425T080405Z
UID:18387-1679736600-1679763600@sscbs.du.ac.in
SUMMARY:APAC Summit 2023
DESCRIPTION:The APAC summit organized by the Shaheed Sukhdev College of Business Studies Branch of 180 Degrees Consulting was a fantastic event\, with engaging sessions led by industry leaders like Dr. Avantika Tomar and Ashwini Bajaj. Such initiatives foster networking and professional development for students interested in consulting and related fields. \nEvent Report
URL:https://sscbs.du.ac.in/event/apac-summit-2023/
LOCATION:DELHI
CATEGORIES:180 Degrees Consulting SSCBS
ATTACH;FMTTYPE=image/jpeg:https://sscbs.du.ac.in/wp-content/uploads/2024/04/IMG_1120-Bhavika-Rajora.jpeg
END:VEVENT
END:VCALENDAR