BEGIN:VCALENDAR
VERSION:2.0
PRODID:-//Shaheed Sukhdev College of Business Studies - ECPv5.12.4//NONSGML v1.0//EN
CALSCALE:GREGORIAN
METHOD:PUBLISH
X-WR-CALNAME:Shaheed Sukhdev College of Business Studies
X-ORIGINAL-URL:https://sscbs.du.ac.in
X-WR-CALDESC:Events for Shaheed Sukhdev College of Business Studies
REFRESH-INTERVAL;VALUE=DURATION:PT1H
X-Robots-Tag:noindex
X-PUBLISHED-TTL:PT1H
BEGIN:VTIMEZONE
TZID:Asia/Kolkata
BEGIN:STANDARD
TZOFFSETFROM:+0530
TZOFFSETTO:+0530
TZNAME:IST
DTSTART:20250101T000000
END:STANDARD
END:VTIMEZONE
BEGIN:VEVENT
DTSTART;TZID=Asia/Kolkata:20250424T110000
DTEND;TZID=Asia/Kolkata:20250424T140000
DTSTAMP:20260422T181852
CREATED:20251004T062801Z
LAST-MODIFIED:20251004T062801Z
UID:22751-1745492400-1745503200@sscbs.du.ac.in
SUMMARY:Ascend
DESCRIPTION:A Global Level Case Competition organized by APICS SSCBS\, participants from LSE\, Imperial College\, etc. The case problem is related to the bottlenecks faced by companies in their supply chains. \nEvent Report
URL:https://sscbs.du.ac.in/event/ascend/
LOCATION:SSCBS
CATEGORIES:APICS SSCBS
ATTACH;FMTTYPE=image/png:https://sscbs.du.ac.in/wp-content/uploads/2025/10/Screenshot-2025-09-29-230900-Apics-SSCBS.png
END:VEVENT
END:VCALENDAR