BEGIN:VCALENDAR
VERSION:2.0
PRODID:-//Shaheed Sukhdev College of Business Studies - ECPv5.12.4//NONSGML v1.0//EN
CALSCALE:GREGORIAN
METHOD:PUBLISH
X-WR-CALNAME:Shaheed Sukhdev College of Business Studies
X-ORIGINAL-URL:https://sscbs.du.ac.in
X-WR-CALDESC:Events for Shaheed Sukhdev College of Business Studies
REFRESH-INTERVAL;VALUE=DURATION:PT1H
X-Robots-Tag:noindex
X-PUBLISHED-TTL:PT1H
BEGIN:VTIMEZONE
TZID:Asia/Kolkata
BEGIN:STANDARD
TZOFFSETFROM:+0530
TZOFFSETTO:+0530
TZNAME:IST
DTSTART:20250101T000000
END:STANDARD
END:VTIMEZONE
BEGIN:VEVENT
DTSTART;TZID=Asia/Kolkata:20250421T090000
DTEND;TZID=Asia/Kolkata:20250422T170000
DTSTAMP:20260422T180548
CREATED:20250820T120944Z
LAST-MODIFIED:20250820T123036Z
UID:22163-1745226000-1745341200@sscbs.du.ac.in
SUMMARY:PRODIGY XVIII
DESCRIPTION:Prodigy is the annual flagship management conclave organized by Communiqué – The Public Relations Cell of Shaheed Sukhdev College of Business Studies (SSCBS). Tailored exclusively for school students of classes XI and XII\, Prodigy aims to simulate real-world business environments through interactive quizzes\, dynamic simulations\, mock stock trading\, and case study competitions. \nNow in its 18th edition\, Prodigy has evolved into a one-of-a-kind experience that challenges young minds to think critically\, collaborate effectively\, and present strategically\, all while competing at a national level. \nWith participation from over 100 schools across India and abroad\, and a legacy of high-impact industry engagement\, Prodigy continues to stand as a beacon of early business exposure\, leadership development\, and experiential learning for the next generation. \nEvent Report
URL:https://sscbs.du.ac.in/event/prodigy-xviii/
LOCATION:Akashganga – Auditorium\, 5th floor Seminar Hall
CATEGORIES:Communiqué
ATTACH;FMTTYPE=image/jpeg:https://sscbs.du.ac.in/wp-content/uploads/2025/08/b55d3593-9849-456b-b287-e223acb878d2-Anurag-Roy.jpg
END:VEVENT
END:VCALENDAR