BEGIN:VCALENDAR
VERSION:2.0
PRODID:-//Shaheed Sukhdev College of Business Studies - ECPv5.12.4//NONSGML v1.0//EN
CALSCALE:GREGORIAN
METHOD:PUBLISH
X-WR-CALNAME:Shaheed Sukhdev College of Business Studies
X-ORIGINAL-URL:https://sscbs.du.ac.in
X-WR-CALDESC:Events for Shaheed Sukhdev College of Business Studies
REFRESH-INTERVAL;VALUE=DURATION:PT1H
X-Robots-Tag:noindex
X-PUBLISHED-TTL:PT1H
BEGIN:VTIMEZONE
TZID:Asia/Kolkata
BEGIN:STANDARD
TZOFFSETFROM:+0530
TZOFFSETTO:+0530
TZNAME:IST
DTSTART:20250101T000000
END:STANDARD
END:VTIMEZONE
BEGIN:VEVENT
DTSTART;TZID=Asia/Kolkata:20250416T093000
DTEND;TZID=Asia/Kolkata:20250417T170000
DTSTAMP:20260422T181856
CREATED:20250614T121648Z
LAST-MODIFIED:20250614T121648Z
UID:21646-1744795800-1744909200@sscbs.du.ac.in
SUMMARY:OCTAVES'25
DESCRIPTION:Dhwani organizes its annual musical event\, Octaves\, as part of the college’s festival\, Crescendo. Octaves featured five competitions: Overture (Western acapella)\, Virtuoso (Western solo)\, Raagmala (Indian classical choir)\, Pandemonium (battle of the bands)\, and Malhaar (Indian semi-classical solos).\nThe event witnessed a footfall of 1000+ attendees from various Delhi colleges. Dhwani collaborated with other societies to create a festive atmosphere. The competition was judged by accomplished judges who awarded prize money and trophies to deserving candidates. The organizing team of Octaves 2025 extends its sincere gratitude to our esteemed sponsors\, ADVICE PRINTER and GEM MINES (Gifting Partner)\, for their invaluable support.\nEvent Report
URL:https://sscbs.du.ac.in/event/octaves25/
CATEGORIES:Dhwani
ATTACH;FMTTYPE=image/jpeg:https://sscbs.du.ac.in/wp-content/uploads/2025/06/Octaves-banner-Dhwani-SSCBS.jpg
END:VEVENT
BEGIN:VEVENT
DTSTART;TZID=Asia/Kolkata:20250416T100000
DTEND;TZID=Asia/Kolkata:20250417T200000
DTSTAMP:20260422T181856
CREATED:20251009T084203Z
LAST-MODIFIED:20251009T084222Z
UID:22857-1744797600-1744920000@sscbs.du.ac.in
SUMMARY:Cynosure
DESCRIPTION:Cynosure\, the annual fest of Darkroom\, was a celebration of creativity and visual storytelling. We hosted four competitions\, two on the spot and two online\, along with an offline exhibition that showcased the best clicks by our society members and students across the college \nEvent Report
URL:https://sscbs.du.ac.in/event/cynosure/
LOCATION:SSCBS
CATEGORIES:The Darkroom
ATTACH;FMTTYPE=image/jpeg:https://sscbs.du.ac.in/wp-content/uploads/2025/10/banner-The-Darkroom-Society.jpg
END:VEVENT
BEGIN:VEVENT
DTSTART;TZID=Asia/Kolkata:20250417T090000
DTEND;TZID=Asia/Kolkata:20250417T170000
DTSTAMP:20260422T181856
CREATED:20251004T063955Z
LAST-MODIFIED:20251004T063955Z
UID:22763-1744880400-1744909200@sscbs.du.ac.in
SUMMARY:CBSFest
DESCRIPTION:Quizzes by QMs Aryapriya Ganguly and Sumantra Datta \nEvent Report
URL:https://sscbs.du.ac.in/event/cbsfest/
LOCATION:5th Floor Seminar Hall
CATEGORIES:Illuminati
ATTACH;FMTTYPE=image/png:https://sscbs.du.ac.in/wp-content/uploads/2025/10/27-Illuminati-CBS.png
END:VEVENT
BEGIN:VEVENT
DTSTART;TZID=Asia/Kolkata:20250417T100000
DTEND;TZID=Asia/Kolkata:20250417T130000
DTSTAMP:20260422T181856
CREATED:20250820T121400Z
LAST-MODIFIED:20250820T121400Z
UID:22173-1744884000-1744894800@sscbs.du.ac.in
SUMMARY:CODE RESISTANCE
DESCRIPTION:Code Resistance is a flagship simulation challenge organized by Communiqué – The Public Relations Cell of Shaheed Sukhdev College of Business Studies (SSCBS) as part of the annual cultural fest\, Crescendo. Designed for undergraduate students\, the event immerses participants in a high-stakes fictional universe where strategy\, logic\, and decision-making are put to the test. \nSet in a dystopian narrative\, Code Resistance challenges teams to assemble a crew\, navigate constraints\, plan a simulated heist\, and make bold decisions under pressure. With limited budgets\, dynamic variables\, and unpredictable twists\, the event mirrors real-world business challenges in an engaging\, gamified format. \nBringing together students from diverse domains like business\, technology\, and economics\, Code Resistance offers a unique blend of creativity\, critical thinking\, and collaboration\, making it one of SSCBS’s most anticipated experiential learning events.Event Report
URL:https://sscbs.du.ac.in/event/code-resistance/
CATEGORIES:Communiqué
ATTACH;FMTTYPE=image/jpeg:https://sscbs.du.ac.in/wp-content/uploads/2025/08/a8870fb5-37c4-49ff-9f72-70f05cd3f2c8-Anurag-Roy.jpg
END:VEVENT
BEGIN:VEVENT
DTSTART;TZID=Asia/Kolkata:20250417T140000
DTEND;TZID=Asia/Kolkata:20250417T144500
DTSTAMP:20260422T181856
CREATED:20251006T073620Z
LAST-MODIFIED:20251006T073620Z
UID:22784-1744898400-1744901100@sscbs.du.ac.in
SUMMARY:Crescendo performance
DESCRIPTION:Performed their annual production “La-ilaaj” to spread awareness about the corporatisation of medical industry.
URL:https://sscbs.du.ac.in/event/crescendo-performance/
LOCATION:SSCBS
CATEGORIES:Verve
ATTACH;FMTTYPE=image/jpeg:https://sscbs.du.ac.in/wp-content/uploads/2025/10/Screenshot_2025-10-01-16-41-28-815_com.instagram.android-edit-Verve-SSCBS.jpg
END:VEVENT
END:VCALENDAR