BEGIN:VCALENDAR
VERSION:2.0
PRODID:-//Shaheed Sukhdev College of Business Studies - ECPv5.12.4//NONSGML v1.0//EN
CALSCALE:GREGORIAN
METHOD:PUBLISH
X-WR-CALNAME:Shaheed Sukhdev College of Business Studies
X-ORIGINAL-URL:https://sscbs.du.ac.in
X-WR-CALDESC:Events for Shaheed Sukhdev College of Business Studies
REFRESH-INTERVAL;VALUE=DURATION:PT1H
X-Robots-Tag:noindex
X-PUBLISHED-TTL:PT1H
BEGIN:VTIMEZONE
TZID:Asia/Kolkata
BEGIN:STANDARD
TZOFFSETFROM:+0530
TZOFFSETTO:+0530
TZNAME:IST
DTSTART:20250101T000000
END:STANDARD
END:VTIMEZONE
BEGIN:VEVENT
DTSTART;TZID=Asia/Kolkata:20250303T120000
DTEND;TZID=Asia/Kolkata:20250403T140000
DTSTAMP:20260420T002413
CREATED:20251009T075507Z
LAST-MODIFIED:20251009T075507Z
UID:22832-1741003200-1743688800@sscbs.du.ac.in
SUMMARY:E-Waste Collection Drive
DESCRIPTION:EcoClub SSCBS\, together with Global Shapers\, held an E-Waste Collection Drive on 3rd–4th March 2025 beside Eklavya Boys Hostel. The drive gave students a chance to drop off old or unused electronic items while also learning why safe disposal of e-waste matters. With enthusiastic participation\, the team managed to collect over 50 different types of e-waste. More than just a collection effort\, the event sparked conversations on sustainability and reminded students how small actions can make a big difference for the environment. \nEvent Report
URL:https://sscbs.du.ac.in/event/e-waste-collection-drive/
CATEGORIES:EcoClub
ATTACH;FMTTYPE=image/jpeg:https://sscbs.du.ac.in/wp-content/uploads/2025/10/E-Waste-Collection-Drive-Eco-Club-1.jpg
END:VEVENT
BEGIN:VEVENT
DTSTART;TZID=Asia/Kolkata:20250328T203000
DTEND;TZID=Asia/Kolkata:20250328T223000
DTSTAMP:20260420T002413
CREATED:20250929T062051Z
LAST-MODIFIED:20250929T062051Z
UID:22666-1743193800-1743201000@sscbs.du.ac.in
SUMMARY:180DC SSCBS X Think-cell
DESCRIPTION:180 Degrees Consulting\, Shaheed Sukhdev College of Business Studies (SSCBS) chapter\, organised a customised workshop on how to effectively create professional charts and slides in partnership with the 180DC Global Team & Think-cell. The workshop\, attended with great enthusiasm from the branch members\, was quite insightful\, offering a deep dive into making more effective presentations. \nEvent Report
URL:https://sscbs.du.ac.in/event/180dc-sscbs-x-think-cell/
LOCATION:Online\, Shaheed Sukhdev College Of Business Studies(University Of Delhi) Dr. K.N. Katju Marg Rohini Sector 16\, PSP Area IV\,\, New Delhi\, DELHI\, 110009\, India
CATEGORIES:180 Degrees Consulting SSCBS
ATTACH;FMTTYPE=image/png:https://sscbs.du.ac.in/wp-content/uploads/2025/09/Think-Cell-180-Degrees-Consulting-SSCBS.png
END:VEVENT
END:VCALENDAR