BEGIN:VCALENDAR
VERSION:2.0
PRODID:-//Shaheed Sukhdev College of Business Studies - ECPv5.12.4//NONSGML v1.0//EN
CALSCALE:GREGORIAN
METHOD:PUBLISH
X-WR-CALNAME:Shaheed Sukhdev College of Business Studies
X-ORIGINAL-URL:https://sscbs.du.ac.in
X-WR-CALDESC:Events for Shaheed Sukhdev College of Business Studies
REFRESH-INTERVAL;VALUE=DURATION:PT1H
X-Robots-Tag:noindex
X-PUBLISHED-TTL:PT1H
BEGIN:VTIMEZONE
TZID:Asia/Kolkata
BEGIN:STANDARD
TZOFFSETFROM:+0530
TZOFFSETTO:+0530
TZNAME:IST
DTSTART:20250101T000000
END:STANDARD
END:VTIMEZONE
BEGIN:VEVENT
DTSTART;TZID=Asia/Kolkata:20250220T100000
DTEND;TZID=Asia/Kolkata:20250302T210000
DTSTAMP:20260420T002418
CREATED:20250929T055512Z
LAST-MODIFIED:20250929T055708Z
UID:22640-1740045600-1740949200@sscbs.du.ac.in
SUMMARY:180DC SSCBS x SVC: Case Buddy Initiative
DESCRIPTION:The Case Buddy Initiative\, jointly organized by 180DC SSCBS and 180DC SVC\, was designed to help consultants hone their problem-solving and interview skills in a collaborative\, low-pressure setting. Each participant was paired with a “buddy” from the other college\, simulating real-case interview dynamics with rotating roles of interviewer and interviewee. The initiative was both intellectually stimulating and personally enriching\, giving consultants a chance to receive immediate feedback\, refine their frameworks\, and learn through peer exchange. \nEvent Report
URL:https://sscbs.du.ac.in/event/180dc-sscbs-x-svc-case-buddy-initiative/
LOCATION:Shaheed Sukhdev College of Business Studies\, New Delhi\, India
CATEGORIES:180 Degrees Consulting SSCBS
ATTACH;FMTTYPE=image/png:https://sscbs.du.ac.in/wp-content/uploads/2025/09/SVC-CaseBuddy-180-Degrees-Consulting-SSCBS.png
END:VEVENT
BEGIN:VEVENT
DTSTART;VALUE=DATE:20250226
DTEND;VALUE=DATE:20250306
DTSTAMP:20260420T002418
CREATED:20250402T112110Z
LAST-MODIFIED:20250402T112110Z
UID:21356-1740528000-1741219199@sscbs.du.ac.in
SUMMARY:The Analytics Conclave 2025
DESCRIPTION:The Analytics Conclave 2025\, the annual event of Nucleus\, was a dynamic and engaging experience for students passionate about data and analytics. Held from February 26 to March 5\, the conclave featured 3 events\, each designed to challenge participants and refine their problem-solving skills. With over 2\,000 participants and 80\,000+ impressions\, the event received immense traction\, backed by prizes worth ₹3\,00\,000 including cash prizes\, live project opportunities and premium courses. \nEvent Report
URL:https://sscbs.du.ac.in/event/the-analytics-conclave-2025/
LOCATION:Online\, Shaheed Sukhdev College Of Business Studies(University Of Delhi) Dr. K.N. Katju Marg Rohini Sector 16\, PSP Area IV\,\, New Delhi\, DELHI\, 110009\, India
CATEGORIES:Nucleus: The Analytics society of SSCBS
ATTACH;FMTTYPE=image/png:https://sscbs.du.ac.in/wp-content/uploads/2025/04/TAC-banner-nucleus-sscbs.png
END:VEVENT
BEGIN:VEVENT
DTSTART;TZID=Asia/Kolkata:20250228T100000
DTEND;TZID=Asia/Kolkata:20250228T180000
DTSTAMP:20260420T002418
CREATED:20250929T060442Z
LAST-MODIFIED:20250929T060442Z
UID:22644-1740736800-1740765600@sscbs.du.ac.in
SUMMARY:180DC SSCBS: Networking mixer with JMC & KMC
DESCRIPTION:In a bid to foster deeper inter-chapter connections and cultivate a collaborative spirit among future consultants\, 180 Degrees Consulting SSCBS hosted an engaging Networking Mixer in partnership with the JMC and KMC chapters. The event brought together like-minded individuals from across Delhi University\, unified by their passion for problem-solving and social impact consulting. The mixer was designed to promote meaningful dialogue\, encourage peer learning\, and build rapport across the three chapters through curated activities and informal exchanges. \nEvent Report
URL:https://sscbs.du.ac.in/event/180dc-sscbs-networking-mixer-with-jmc-kmc/
LOCATION:Shaheed Sukhdev College of Business Studies\, New Delhi\, India
CATEGORIES:180 Degrees Consulting SSCBS
ATTACH;FMTTYPE=image/png:https://sscbs.du.ac.in/wp-content/uploads/2025/09/Networking-mixer-JMC-KMC-180-Degrees-Consulting-SSCBS.png
END:VEVENT
END:VCALENDAR