BEGIN:VCALENDAR
VERSION:2.0
PRODID:-//Shaheed Sukhdev College of Business Studies - ECPv5.12.4//NONSGML v1.0//EN
CALSCALE:GREGORIAN
METHOD:PUBLISH
X-WR-CALNAME:Shaheed Sukhdev College of Business Studies
X-ORIGINAL-URL:https://sscbs.du.ac.in
X-WR-CALDESC:Events for Shaheed Sukhdev College of Business Studies
REFRESH-INTERVAL;VALUE=DURATION:PT1H
X-Robots-Tag:noindex
X-PUBLISHED-TTL:PT1H
BEGIN:VTIMEZONE
TZID:Asia/Kolkata
BEGIN:STANDARD
TZOFFSETFROM:+0530
TZOFFSETTO:+0530
TZNAME:IST
DTSTART:20240101T000000
END:STANDARD
END:VTIMEZONE
BEGIN:VEVENT
DTSTART;TZID=Asia/Kolkata:20240621T060000
DTEND;TZID=Asia/Kolkata:20240621T080000
DTSTAMP:20260424T155750
CREATED:20240703T123424Z
LAST-MODIFIED:20240703T123424Z
UID:19029-1718949600-1718956800@sscbs.du.ac.in
SUMMARY:International Yoga Day
DESCRIPTION:An online yoga session was held on International Day of Yoga\, June 21\, 2024. Twenty participants enjoyed a one-hour session led by instructor Ms. Varsha Jha. The session took place from 7:00 AM to 8:00 AM. We also participated in the program organized collaboratively by Bhartiya Yog Sansthan\, the Ministry of AYUSH and DDA at Japanese Park\, Rohini. The well-organized and informative event aimed at promoting the benefits of yoga. \n  \nEvent Report
URL:https://sscbs.du.ac.in/event/international-yoga-day/
LOCATION:Online and Japanese Park Rohini
CATEGORIES:Sadhana: Yoga and Meditation society
ATTACH;FMTTYPE=image/jpeg:https://sscbs.du.ac.in/wp-content/uploads/2024/07/WhatsApp-Image-2024-06-20-at-20.22.14_7f092818-RAJAT-KUMAR.jpg
END:VEVENT
END:VCALENDAR