BEGIN:VCALENDAR
VERSION:2.0
PRODID:-//Shaheed Sukhdev College of Business Studies - ECPv5.12.4//NONSGML v1.0//EN
CALSCALE:GREGORIAN
METHOD:PUBLISH
X-WR-CALNAME:Shaheed Sukhdev College of Business Studies
X-ORIGINAL-URL:https://sscbs.du.ac.in
X-WR-CALDESC:Events for Shaheed Sukhdev College of Business Studies
REFRESH-INTERVAL;VALUE=DURATION:PT1H
X-Robots-Tag:noindex
X-PUBLISHED-TTL:PT1H
BEGIN:VTIMEZONE
TZID:Asia/Kolkata
BEGIN:STANDARD
TZOFFSETFROM:+0530
TZOFFSETTO:+0530
TZNAME:IST
DTSTART:20240101T000000
END:STANDARD
END:VTIMEZONE
BEGIN:VEVENT
DTSTART;VALUE=DATE:20240430
DTEND;VALUE=DATE:20240502
DTSTAMP:20260420T140144
CREATED:20240905T150817Z
LAST-MODIFIED:20240905T150817Z
UID:19427-1714435200-1714607999@sscbs.du.ac.in
SUMMARY:Octaves
DESCRIPTION:Dhwani organizes Octaves – The Annual Music Fest of SSCBS during Crescendo\, the college cultural fest. Each year\, we have the honor of hosting 200+ participants across Delhi for two days filled with melodies and harmonies. The last iteration of the same consisted of 6 competitions held over two days namely\, Overture (the Western acapella competition)\, Virtuoso (the Western solo singing competition)\, Raagmala (the Indian classical choir competition)\, Malhaar (the Indian classical solo singing competition)\, Hip-Hopmicide (the rap battle competition) and Pandemonium (the battle of the bands).
URL:https://sscbs.du.ac.in/event/octaves-2/
LOCATION:Shaheed Sukhdev College of Business Studies\, New Delhi\, India
CATEGORIES:Dhwani
ATTACH;FMTTYPE=image/png:https://sscbs.du.ac.in/wp-content/uploads/2024/09/Adjusted-Text-Dhwani-Black.png
END:VEVENT
BEGIN:VEVENT
DTSTART;TZID=Asia/Kolkata:20240430T100000
DTEND;TZID=Asia/Kolkata:20240501T170000
DTSTAMP:20260420T140144
CREATED:20240613T120104Z
LAST-MODIFIED:20240613T120104Z
UID:18888-1714471200-1714582800@sscbs.du.ac.in
SUMMARY:Alla Prima'24
DESCRIPTION:Alla Prima is the flagship event of Kriti. It is the Annual Fine Arts Fest of SSCBS. This year\, four competitions were organized under Alla Prima namely- shades of grey\, metamorphosis\, Brushstrokes of change\, mythos mashup\, and the art exhibition-kaleidoscope. \nEvent Report
URL:https://sscbs.du.ac.in/event/alla-prima24/
CATEGORIES:Kriti: The fine arts society
ATTACH;FMTTYPE=image/webp:https://sscbs.du.ac.in/wp-content/uploads/2024/06/662405b108220_shades-of-grey-Kriti-SSCBS.webp
END:VEVENT
BEGIN:VEVENT
DTSTART;TZID=Asia/Kolkata:20240430T120000
DTEND;TZID=Asia/Kolkata:20240501T180000
DTSTAMP:20260420T140144
CREATED:20240625T142914Z
LAST-MODIFIED:20240625T142914Z
UID:18985-1714478400-1714586400@sscbs.du.ac.in
SUMMARY:Action Fiesta
DESCRIPTION:Kronos – The Tech Society of Shaheed Sukhdev College of Business Studies organized Action Fiesta for Crescendo ’24 – The Annual Fest of SSCBS.\nAction Fiesta was an exhilarating two-day event that featured three main activities: zorbing\, nerf war\, and laser tag. The event aimed to provide participants with thrilling and unique experiences\, combining physical activity with fun and competition. The response to the event was overwhelmingly positive\, with a significant number of participants and spectators attending. We planned three activities for the event.\n1. Zorbing\n2. Nerf War\n3. Lazer tag \n  \nEvent Report
URL:https://sscbs.du.ac.in/event/action-fiesta/
CATEGORIES:Kronos
ATTACH;FMTTYPE=image/jpeg:https://sscbs.du.ac.in/wp-content/uploads/2024/06/440279221_226074660587355_6171689719539268698_n-Kronos-SSCBS.jpeg
END:VEVENT
BEGIN:VEVENT
DTSTART;TZID=Asia/Kolkata:20240501T100000
DTEND;TZID=Asia/Kolkata:20240501T150000
DTSTAMP:20260420T140144
CREATED:20240625T141558Z
LAST-MODIFIED:20240625T141558Z
UID:18980-1714557600-1714575600@sscbs.du.ac.in
SUMMARY:Code Twist 2.0 - Coding Competition
DESCRIPTION:– Code Twist 2.0 Summary‬\n‭ Organised by ACM SSCBS\, Code Twist 2.0 is a premier tech competition set to ignite the creativity‬‭ and problem-solving skills of undergraduate students. Taking place on May 1st at Shaheed Sukhdev‬‭ College of Business Studies in Delhi\, this event promises an exciting blend of challenges designed to‬‭ test participants’ knowledge and technical prowess.‬ \n-‭ Why Code Twist 2.0?‬\n‭ Code Twist 2.0 serves as a unique platform for fostering creativity and technical expertise among‬ students. The event stands out for its structured rounds that challenge participants in various aspects‬‭ of technology\, from logo recognition to tech-related problem-solving. By focusing on individual and‬‭ team skills\, the competition promotes a fair and engaging environment\, leading to the generation of‬‭ innovative solutions and a deeper understanding of technology.‬ \n-‭ Outcome of Code Twist 2.0‬\n‭ Code Twist 2.0 is anticipated to be a resounding success with enthusiastic participants creating a‬ vibrant competitive atmosphere. The event is designed to leave a positive impression on both judges‬‭ and participants\, ensuring a rewarding experience for all involved. Organizers and volunteers will‬‭ gain valuable insights and experiences\, contributing to their personal and professional growth. The‬‭ competition is expected to produce outstanding technical solutions\, with winners earning recognition‬‭ and prizes that will encourage further innovation and excellence in the field of technology.‬ \n  \n  \nEvent Report
URL:https://sscbs.du.ac.in/event/code-twist-2-0-coding-competition/
LOCATION:Room 523
CATEGORIES:ACM - Tech Chapter of SSCBS
ATTACH;FMTTYPE=image/webp:https://sscbs.du.ac.in/wp-content/uploads/2024/06/6626b3b6c33f9_code-twist-20.webp
END:VEVENT
BEGIN:VEVENT
DTSTART;TZID=Asia/Kolkata:20240501T180000
DTEND;TZID=Asia/Kolkata:20240501T220000
DTSTAMP:20260420T140144
CREATED:20240430T093609Z
LAST-MODIFIED:20240430T093609Z
UID:18518-1714586400-1714600800@sscbs.du.ac.in
SUMMARY:HipHop Night - Crescendo'24
DESCRIPTION:Get ready to witness a magical HipHop night with rapper KR$NA at Crescendo ’24\, the annual cultural fest of Shaheed Sukhdev College of Business Studies! KR$NA was one of the earliest rappers to emerge in the Indian hip hop scene and was even featured in the 2019 Bollywood film Gully Boy as himself. He is widely acknowledged within the Desi Hip Hop community for pioneering a lyrical revolution in the genre\, infusing a new wave of poetic depth and lyrical complexity into hip hop’s narrative.
URL:https://sscbs.du.ac.in/event/hiphop-night-crescendo24/
LOCATION:SSCBS Ground
ATTACH;FMTTYPE=image/jpeg:https://sscbs.du.ac.in/wp-content/uploads/2024/04/WhatsApp-Image-2024-04-26-at-21.39.50_b3dccb21-1.jpg
END:VEVENT
END:VCALENDAR